BEGIN:VCALENDAR
VERSION:2.0
PRODID:-//Nartesol - ECPv6.15.17//NONSGML v1.0//EN
CALSCALE:GREGORIAN
METHOD:PUBLISH
X-WR-CALNAME:Nartesol
X-ORIGINAL-URL:https://nartesol.org
X-WR-CALDESC:Events for Nartesol
REFRESH-INTERVAL;VALUE=DURATION:PT1H
X-Robots-Tag:noindex
X-PUBLISHED-TTL:PT1H
BEGIN:VTIMEZONE
TZID:America/Bogota
BEGIN:STANDARD
TZOFFSETFROM:-0500
TZOFFSETTO:-0500
TZNAME:-05
DTSTART:20200101T000000
END:STANDARD
END:VTIMEZONE
BEGIN:VEVENT
DTSTART;TZID=America/Bogota:20231124T150000
DTEND;TZID=America/Bogota:20231124T170000
DTSTAMP:20260424T021441
CREATED:20231108T182806Z
LAST-MODIFIED:20240306T185340Z
UID:2820-1700838000-1700845200@nartesol.org
SUMMARY:LEC 💡 Teach Smarter with Ellii (promotional)
DESCRIPTION:The EventThe Speaker\n\n(Learn about the event on these tabs ⬆️. Register below ⬇️) \n\n\n\n\n\n\n\nTHIS EVENT WAS CANCELLED due to scheduling difficulties. We apologize to our community and to Ellii for this inconvenience. \n\n\n\nEllii (formerly ESL Library) is an online platform with thousands of highly engaging printable and digital lessons and resources for English language educators. Our materials are used in more than 10\,000 schools around the world to create an engaging curriculum or complement an existing one. Join us for an introductory overview of the Ellii platform to learn how to quickly and easily access and assign content most relevant to your students’ needs. \n\n\n\n\n\n\n\n\n\n \n\n\n\nBachelor’s degree holder\, Ben Buckwold is the CEO & Founder of the Ellii platform for English language educators.
URL:https://nartesol.org/event/teach-smarter-with-ellii/
CATEGORIES:Lecture
ATTACH;FMTTYPE=image/png:https://nartesol.org/wp-content/uploads/2023/11/19.png
END:VEVENT
BEGIN:VEVENT
DTSTART;TZID=America/Bogota:20231020T180000
DTEND;TZID=America/Bogota:20231020T200000
DTSTAMP:20260424T021441
CREATED:20231012T011649Z
LAST-MODIFIED:20231012T050042Z
UID:2663-1697824800-1697832000@nartesol.org
SUMMARY:LEC 💡 Neuropsychological Bases of Learning
DESCRIPTION:The EventThe Speaker\n\n(Learn about the event on these tabs ⬆️. Register below ⬇️) \n\n\n\n\n\n\n\n \n\n\n\nThe neuropsychological bases of learning encompass a wide range of neural and cognitive processes that occur within the brain. Understanding these processes is essential for improving educational strategies\, diagnosing and treating learning-related disorders\, and advancing our knowledge on human cognition. Studying the neuropsychological bases of learning English provides insights into the cognitive and neural mechanisms underlying language acquisition and use. It can have practical implications for language education\, assessment\, and the development of interventions to enhance language learning outcomes. \n\n\n\n\n\n\n\n\n\n \n\n\n\nLeidy Magaly has a Bachelor’s degree in English and French from the University of Nariño and a Master’s degree in Neuroscience from the International University of La Rioja (UNIR). \n\n\n\nShe is an English and French teacher at the University of Nariño. Passionate with her profession\, she is a dynamic educator and neuropsychologist whose passion for language and the human mind has shaped her remarkable career. Her fascination for the French language also embarks on a journey through music\, tourism and gastronomy in this language.
URL:https://nartesol.org/event/neuropsychological-bases-of-learning/
CATEGORIES:Lecture
ATTACH;FMTTYPE=image/png:https://nartesol.org/wp-content/uploads/2023/10/18-1.png
END:VEVENT
BEGIN:VEVENT
DTSTART;TZID=America/Bogota:20210528T190000
DTEND;TZID=America/Bogota:20210528T210000
DTSTAMP:20260424T021441
CREATED:20230906T033406Z
LAST-MODIFIED:20230910T145106Z
UID:2218-1622228400-1622235600@nartesol.org
SUMMARY:LEC 💡 How to Facilitate Online Teacher Communities and Networks
DESCRIPTION:The EventThe Speaker\n\n(Learn about the event on these tabs ⬆️. Register below ⬇️) \n\n\n\n\n\n\n\n\n\n\n\n\n\n \n\n\n\nHe holds a Bachelor in Education’s degree in Spanish and Foreign Languages from Universidad Pedagógica Nacional\, and a Master in Education’s degree and a PhD in Learning\, Design\, and Technology from the University of Georgia. \n\n\n\nDr. Diego Boada is an instructor for TESOL International Association in the US and a learning design coach at Aula Education in the UK.
URL:https://nartesol.org/event/how-to-facilitate-online-teacher-communities-and-networks/
CATEGORIES:Lecture
ATTACH;FMTTYPE=image/png:https://nartesol.org/wp-content/uploads/2023/09/1.png
END:VEVENT
END:VCALENDAR